BEGIN:VCALENDAR
VERSION:2.0
PRODID:-//Hessischer Bauernverband//HBV Events//DE
CALSCALE:GREGORIAN
METHOD:PUBLISH
BEGIN:VEVENT
UID:5719d8f8-6175-4105-8ac9-f2e24c700a85@hessischerbauernverb
 and.de
DTSTAMP:20260424T134340Z
DTSTART:20260415T170000Z
DTEND:20260415T
 170000Z
SUMMARY:Mitgliederversammlung 2026
LOCATION:Stadthalle Groß-Umst
 adt
ORGANIZER;CN=Regionalbauernverband Starkenburg e.V.:MAILTO:info@hessis
 cherbauernverband.de
URL:https://www.hessischerbauernverband.de/kreisbauer
 nverbaende/regionalbauernverband-starkenburg-ev/termine/mitgliederversammlu
 ng-2026-56399
END:VEVENT
END:VCALENDAR
