BEGIN:VCALENDAR
VERSION:2.0
PRODID:-//Hessischer Bauernverband//HBV Events//DE
CALSCALE:GREGORIAN
METHOD:PUBLISH
BEGIN:VEVENT
UID:2d04e11c-1147-4422-9709-31f069432652@hessischerbauernverb
 and.de
DTSTAMP:20260424T104852Z
DTSTART:20260522T073000Z
DTEND:20260522T
 073000Z
SUMMARY:Hessischer Bauerntag 2026
DESCRIPTION:Liebe Bäuerinnen u
 nd Bauern\,liebe Landjugend\,liebe Landsenioren\,verehrte Gäste\,eine sich
 ere Versorgung mit Lebensmitteln braucht starke landwirtschaftliche Betrieb
 e. In Zeiten wirtschaftlicher Unsicherheit und steigender Anforderungen kom
 mt der heimischen Landwirtschaft eine zentrale Bedeutung für unsere Region
 en und für den gesellschaftlichen Zusammenhalt zu.Das gilt in besonderem M
 aße für die Tierhaltung. Sie ist ein unverzichtbarer Bestandteil der hess
 ischen Landwirtschaft\, sichert Wertschöpf
URL:https://www.hessischerbaue
 rnverband.de/termine/hessischer-bauerntag-2026-56405
END:VEVENT
END:VCALENDAR
